BEGIN:VCALENDAR
VERSION:2.0
PRODID:-//sebbo.net//ical-generator//EN
BEGIN:VEVENT
UID:bc29cf5e-bee8-4c24-828b-be3de9d25753
SEQUENCE:0
DTSTAMP:20260423T102418Z
DTSTART:20260529T163000Z
DTEND:20260529T193000Z
SUMMARY:DRUNKEN MASTERS - DIE DEMONTAGE GEHT WEITER - Rostock - Helgas Sta
 dtpalast
LOCATION:Helgas Stadtpalast\, Am Vögenteich 19\, 18057 Rostock\, Germany
DESCRIPTION:Doors: 18:30 Uhr\, Start: 19:30
END:VEVENT
END:VCALENDAR