BEGIN:VCALENDAR
VERSION:2.0
PRODID:-//sebbo.net//ical-generator//EN
BEGIN:VEVENT
UID:7df4dc7f-59bc-47aa-9f6d-24e9ab2563dc
SEQUENCE:0
DTSTAMP:20260420T014627Z
DTSTART:20260424T163000Z
DTEND:20260424T193000Z
SUMMARY:DRUNKEN MASTERS - DIE DEMONTAGE GEHT WEITER - Karlsruhe - Substage
LOCATION:Substage\, Alter Schlachthof 19\, 76131 Karlsruhe\, Deutschland
DESCRIPTION:Einlass: 18:30 Uhr\, Beginn: 19:30
END:VEVENT
END:VCALENDAR